BEGIN:VCALENDAR
VERSION:2.0
PRODID:spatie/icalendar-generator
DESCRIPTION:Veranstaltungen von 
X-WR-CALDESC:Veranstaltungen von 
REFRESH-INTERVAL;VALUE=DURATION:PT1440M
X-PUBLISHED-TTL:PT1440M
BEGIN:VTIMEZONE
TZID:Etc/GMT-1
BEGIN:STANDARD
DTSTART:20230102T150000Z
TZOFFSETFROM:+0100
TZOFFSETTO:+0100
END:STANDARD
END:VTIMEZONE
BEGIN:VTIMEZONE
TZID:UTC
BEGIN:STANDARD
DTSTART:20250725T174112Z
TZOFFSETFROM:+0000
TZOFFSETTO:+0000
END:STANDARD
END:VTIMEZONE
BEGIN:VEVENT
UID:9-8
DTSTAMP:20260421T174112Z
SUMMARY:Familiengottesdienst bei den Rheinpiraten - Kirchengemeinde Ruhrort
 -Beeck
LOCATION:Evangelisches Familienzentrum Rheinpiraten Dr.-Hammacher-Str. 8B  
 Duisburg  47119
ORGANIZER;CN=Alexander Fennen:MAILTO:alexander.fennen@gmail.com
DTSTART;TZID=Etc/GMT-1:20230929T150000
DTEND;TZID=Etc/GMT-1:20230929T160000
X-ALT-DESC;FMTTYPE=TEXT/HTML:
CATEGORIES:General
URL;VALUE=URI:http://fair-ruhrort.de/mc-events/familiengottesdienst-bei-den
 -rheinpiraten-kirchengemeinde-ruhrort-beeck
METHOD:PUBLISH
END:VEVENT
END:VCALENDAR