BEGIN:VCALENDAR
VERSION:2.0
PRODID:spatie/icalendar-generator
DESCRIPTION:Veranstaltungen von 
X-WR-CALDESC:Veranstaltungen von 
REFRESH-INTERVAL;VALUE=DURATION:PT1440M
X-PUBLISHED-TTL:PT1440M
BEGIN:VTIMEZONE
TZID:Etc/GMT-1
BEGIN:STANDARD
DTSTART:20240318T180000Z
TZOFFSETFROM:+0100
TZOFFSETTO:+0100
END:STANDARD
END:VTIMEZONE
BEGIN:VTIMEZONE
TZID:UTC
BEGIN:STANDARD
DTSTART:20250725T110541Z
TZOFFSETFROM:+0000
TZOFFSETTO:+0000
END:STANDARD
END:VTIMEZONE
BEGIN:VEVENT
UID:52-47
DTSTAMP:20260421T110541Z
SUMMARY:Lichterglanz Parade - Ruhrorter Bürgerverein
LOCATION:Maxiplatz Weinhagenstr. 25  Duisburg  47119
ORGANIZER;CN=Alexander Fennen:MAILTO:alexander.fennen@gmail.com
DTSTART;TZID=Etc/GMT-1:20241213T180000
DTEND;TZID=Etc/GMT-1:20241213T200000
X-ALT-DESC;FMTTYPE=TEXT/HTML:https://www.ruhrort.de/lichterglanzparade-2024
 -anmeldeformular/
CATEGORIES:General
URL;VALUE=URI:http://fair-ruhrort.de/mc-events/lichterglanz-parade-ruhrorte
 r-buergerverein-2
METHOD:PUBLISH
END:VEVENT
END:VCALENDAR