BEGIN:VCALENDAR
VERSION:2.0
PRODID:spatie/icalendar-generator
DESCRIPTION:Veranstaltungen von 
X-WR-CALDESC:Veranstaltungen von 
REFRESH-INTERVAL;VALUE=DURATION:PT1440M
X-PUBLISHED-TTL:PT1440M
BEGIN:VTIMEZONE
TZID:Etc/GMT-1
BEGIN:STANDARD
DTSTART:20231230T183000Z
TZOFFSETFROM:+0100
TZOFFSETTO:+0100
END:STANDARD
END:VTIMEZONE
BEGIN:VTIMEZONE
TZID:UTC
BEGIN:STANDARD
DTSTART:20250725T110543Z
TZOFFSETFROM:+0000
TZOFFSETTO:+0000
END:STANDARD
END:VTIMEZONE
BEGIN:VEVENT
UID:43-39
DTSTAMP:20260421T110543Z
SUMMARY:Informationsveranstaltung mit den Wirtschaftsbetrieben Duisburg - R
 uhrorter Bürgerverein
LOCATION:Gemeindehaus St. Maximilian Fabrikstraße 20  Duisburg NRW 47119
ORGANIZER;CN=Alexander Fennen:MAILTO:alexander.fennen@gmail.com
DTSTART;TZID=Etc/GMT-1:20240925T183000
DTEND;TZID=Etc/GMT-1:20241025T193000
X-ALT-DESC;FMTTYPE=TEXT/HTML:Gemeinsam mit den Wirtschaftsbetrieben Duisbur
 g (WB DU) wird der RBV eine Informationsveranstaltung am Mittwoch\, 25.09.
 2024\, 18.30 Uhr\, veranstalten. Treffpunkt ist im katholischen Gemeindeha
 us St. Maximilian. Kompetente Vertreter der Wirtschaftsbetriebe werden all
 e Fragen beantworten. Es wird um die folgenden Themen gehen: - Aufstellung
  von Laubkörben im Herbst – Hintergrund und Handhabung - Handy-Apps der
  WB DU&amp;hellip\;
CATEGORIES:General
URL;VALUE=URI:http://fair-ruhrort.de/mc-events/informationsveranstaltung-mi
 t-den-wirtschaftsbetrieben-duisburg-ruhrorter-buergerverein
METHOD:PUBLISH
END:VEVENT
END:VCALENDAR