BEGIN:VCALENDAR
VERSION:2.0
PRODID:spatie/icalendar-generator
DESCRIPTION:Veranstaltungen von 
X-WR-CALDESC:Veranstaltungen von 
REFRESH-INTERVAL;VALUE=DURATION:PT1440M
X-PUBLISHED-TTL:PT1440M
BEGIN:VTIMEZONE
TZID:Etc/GMT-1
BEGIN:STANDARD
DTSTART:20230819T150000Z
TZOFFSETFROM:+0100
TZOFFSETTO:+0100
END:STANDARD
END:VTIMEZONE
BEGIN:VTIMEZONE
TZID:UTC
BEGIN:STANDARD
DTSTART:20250725T122601Z
TZOFFSETFROM:+0000
TZOFFSETTO:+0000
END:STANDARD
END:VTIMEZONE
BEGIN:VEVENT
UID:37-34
DTSTAMP:20260421T122601Z
SUMMARY:KISSEN UND SONST NIX Theatrer - Spielkorb
LOCATION:kulturiges im Hamborner Ratskeller Duisburger Str. 213  Duisburg  
 47166
ORGANIZER;CN=Alexander Fennen:MAILTO:alexander.fennen@gmail.com
DTSTART;TZID=Etc/GMT-1:20240515T150000
DTEND;TZID=Etc/GMT-1:20240515T160000
X-ALT-DESC;FMTTYPE=TEXT/HTML:KISSEN UND SONST NIX Eine Collage von Spielere
 ien Es spielen: Birte Hebold\, Sarah Wissner Birte Hebold / Figurentheater
  Eigentlich\, Frankfurt/Main\, Sarah Wissner\, Neuss Ein leerer Raum\, zwe
 i Frauen und ein Kissen – wo führt das hin? Lange bleibt es nicht bei e
 inem Objekt\, schnell ist ein zweites riesiges Kissen auf der Bühne\; es 
 wird verglichen\,&amp;hellip\;
CATEGORIES:General
URL;VALUE=URI:http://fair-ruhrort.de/mc-events/kissen-und-sonst-nix-theatre
 r-spielkorb
METHOD:PUBLISH
END:VEVENT
END:VCALENDAR