BEGIN:VCALENDAR
VERSION:2.0
PRODID:spatie/icalendar-generator
DESCRIPTION:Veranstaltungen von 
X-WR-CALDESC:Veranstaltungen von 
REFRESH-INTERVAL;VALUE=DURATION:PT1440M
X-PUBLISHED-TTL:PT1440M
BEGIN:VTIMEZONE
TZID:Etc/GMT-1
BEGIN:STANDARD
DTSTART:20230722T150000Z
TZOFFSETFROM:+0100
TZOFFSETTO:+0100
END:STANDARD
END:VTIMEZONE
BEGIN:VTIMEZONE
TZID:UTC
BEGIN:STANDARD
DTSTART:20250725T122532Z
TZOFFSETFROM:+0000
TZOFFSETTO:+0000
END:STANDARD
END:VTIMEZONE
BEGIN:VEVENT
UID:33-30
DTSTAMP:20260421T122532Z
SUMMARY:FLORA PRIMELWURZ Theater - Spielkorb
LOCATION:kulturiges im Hamborner Ratskeller Duisburger Str. 213  Duisburg  
 47166
ORGANIZER;CN=Alexander Fennen:MAILTO:alexander.fennen@gmail.com
DTSTART;TZID=Etc/GMT-1:20240417T150000
DTEND;TZID=Etc/GMT-1:20240417T160000
X-ALT-DESC;FMTTYPE=TEXT/HTML:FLORA PRIMELWURZ Ein temporeicher Theater- und
  Gärtnerspaß zum Stauen\, Lachen\, Lernen und Grünwerden für die ganze
  Familie Es spielt: Anke Scholz ArtisjokTheater Anke Scholz In einem Garte
 n ist es wunderbar: immer Blumenduft\, leckere Früchte\, Sonne und jede M
 enge frische Luft. Das ist doch toll\, oder? Ja – aber Achtung! Das mit 
 den Pflanzen ist nämlich&amp;hellip\;
CATEGORIES:General
URL;VALUE=URI:http://fair-ruhrort.de/mc-events/flora-primelwurz-theater-spi
 elkorb
METHOD:PUBLISH
END:VEVENT
END:VCALENDAR