BEGIN:VCALENDAR
VERSION:2.0
PRODID:spatie/icalendar-generator
DESCRIPTION:Veranstaltungen von 
X-WR-CALDESC:Veranstaltungen von 
REFRESH-INTERVAL;VALUE=DURATION:PT1440M
X-PUBLISHED-TTL:PT1440M
BEGIN:VTIMEZONE
TZID:Etc/GMT-1
BEGIN:STANDARD
DTSTART:20230617T150000Z
TZOFFSETFROM:+0100
TZOFFSETTO:+0100
END:STANDARD
END:VTIMEZONE
BEGIN:VTIMEZONE
TZID:UTC
BEGIN:STANDARD
DTSTART:20250725T134205Z
TZOFFSETFROM:+0000
TZOFFSETTO:+0000
END:STANDARD
END:VTIMEZONE
BEGIN:VEVENT
UID:30-27
DTSTAMP:20260421T134205Z
SUMMARY:EGON EICHHORN UND DER WILDE MÜLL IM WALD Theater - Spielkorb
LOCATION:kulturiges im Hamborner Ratskeller Duisburger Str. 213  Duisburg  
 47166
ORGANIZER;CN=Alexander Fennen:MAILTO:alexander.fennen@gmail.com
DTSTART;TZID=Etc/GMT-1:20240313T150000
DTEND;TZID=Etc/GMT-1:20240313T160000
X-ALT-DESC;FMTTYPE=TEXT/HTML:EGON EICHHORN UND DER WILDE MÜLL IM WALD Inte
 raktive Mitmach-Lesung nach dem Bilderbuch von Alina Gies Es spielt: Alina
  Gies Autorin Alina Gies\, Düsseldorf Glasflaschen\, Blechdosen\, Batteri
 en. Seltsam\, was die Menschen hier im Wald so liegen lassen\, findet Egon
  Eichhorn. Aber um sein Zuhause richtig gemütlich für den kalten Winter 
 herzurichten\, nimmt er eben all&amp;hellip\;
CATEGORIES:General
URL;VALUE=URI:http://fair-ruhrort.de/mc-events/egon-eichhorn-und-der-wilde-
 muell-im-wald-theater-spielkorb
METHOD:PUBLISH
END:VEVENT
END:VCALENDAR