BEGIN:VCALENDAR
VERSION:2.0
PRODID:spatie/icalendar-generator
DESCRIPTION:Veranstaltungen von 
X-WR-CALDESC:Veranstaltungen von 
REFRESH-INTERVAL;VALUE=DURATION:PT1440M
X-PUBLISHED-TTL:PT1440M
BEGIN:VTIMEZONE
TZID:Etc/GMT-1
BEGIN:STANDARD
DTSTART:20230531T160000Z
TZOFFSETFROM:+0100
TZOFFSETTO:+0100
END:STANDARD
END:VTIMEZONE
BEGIN:VTIMEZONE
TZID:UTC
BEGIN:STANDARD
DTSTART:20250725T161615Z
TZOFFSETFROM:+0000
TZOFFSETTO:+0000
END:STANDARD
END:VTIMEZONE
BEGIN:VEVENT
UID:29-26
DTSTAMP:20260421T161615Z
SUMMARY:STERNENHIMMEL – EINE WELTRAUMGESCHICHTE Theater - Spielkorb
LOCATION:Das Parkhaus Bürgermeister-Pütz-Str. 123  Duisburg  47137
ORGANIZER;CN=Alexander Fennen:MAILTO:alexander.fennen@gmail.com
DTSTART;TZID=Etc/GMT-1:20240225T160000
DTEND;TZID=Etc/GMT-1:20240225T170000
X-ALT-DESC;FMTTYPE=TEXT/HTML:STERNENHIMMEL – EINE WELTRAUMGESCHICHTE Ein 
 Singspiel mit Tanz Es spielen: Leonhard Friedrich Lechner\, Thomas Herr Th
 eater Rootslöffel\, Nürnberg Herrn Schneider gefällt es hier: Er sitzt 
 am liebsten in seinem Stuhl und schaut in die Wolken. Oder er fährt mit s
 einem Fahrrade mit der blauen Klingel. Oder er isst ein Erdbeereis. Herr M
 üller will weg. Er&amp;hellip\;
CATEGORIES:General
URL;VALUE=URI:http://fair-ruhrort.de/mc-events/sternenhimmel-eine-weltraumg
 eschichte-theater-spielkorb-3
METHOD:PUBLISH
END:VEVENT
END:VCALENDAR