BEGIN:VCALENDAR
VERSION:2.0
PRODID:spatie/icalendar-generator
DESCRIPTION:Veranstaltungen von 
X-WR-CALDESC:Veranstaltungen von 
REFRESH-INTERVAL;VALUE=DURATION:PT1440M
X-PUBLISHED-TTL:PT1440M
BEGIN:VTIMEZONE
TZID:Etc/GMT-1
BEGIN:STANDARD
DTSTART:20230426T160000Z
TZOFFSETFROM:+0100
TZOFFSETTO:+0100
END:STANDARD
END:VTIMEZONE
BEGIN:VTIMEZONE
TZID:UTC
BEGIN:STANDARD
DTSTART:20250725T110637Z
TZOFFSETFROM:+0000
TZOFFSETTO:+0000
END:STANDARD
END:VTIMEZONE
BEGIN:VEVENT
UID:25-23
DTSTAMP:20260421T110637Z
SUMMARY:DER TEUFEL MIT DEN DREI GOLDENEN HAAREN Theater - Spielkorb
LOCATION:Das Parkhaus Bürgermeister-Pütz-Str. 123  Duisburg  47137
ORGANIZER;CN=Alexander Fennen:MAILTO:alexander.fennen@gmail.com
DTSTART;TZID=Etc/GMT-1:20240121T160000
DTEND;TZID=Etc/GMT-1:20240121T170000
X-ALT-DESC;FMTTYPE=TEXT/HTML:DER TEUFEL MIT DEN DREI GOLDENEN HAAREN Eine t
 urbulente Geschichte über Unmögliches\, das wahr wird Es spielen: Claudi
 a Engels\, Matthias Ludwig flunkerproduktionen\, Dahme/Mark Während sich 
 der Teufel in der Hölle unten mit seiner Großmutter in den Haaren liegt\
 , spaziert auf der Erde oben das Glückskind Fritz durch sein abenteuerlic
 hes Leben. Der König will ihn loswerden&amp;hellip\;
CATEGORIES:General
URL;VALUE=URI:http://fair-ruhrort.de/mc-events/der-teufel-mit-den-drei-gold
 enen-haaren-theater-spielkorb-3
METHOD:PUBLISH
END:VEVENT
END:VCALENDAR