BEGIN:VCALENDAR
VERSION:2.0
PRODID:spatie/icalendar-generator
DESCRIPTION:Veranstaltungen von 
X-WR-CALDESC:Veranstaltungen von 
REFRESH-INTERVAL;VALUE=DURATION:PT1440M
X-PUBLISHED-TTL:PT1440M
BEGIN:VTIMEZONE
TZID:Etc/GMT-1
BEGIN:STANDARD
DTSTART:20230318T150000Z
TZOFFSETFROM:+0100
TZOFFSETTO:+0100
END:STANDARD
END:VTIMEZONE
BEGIN:VTIMEZONE
TZID:UTC
BEGIN:STANDARD
DTSTART:20250725T161726Z
TZOFFSETFROM:+0000
TZOFFSETTO:+0000
END:STANDARD
END:VTIMEZONE
BEGIN:VEVENT
UID:20-18
DTSTAMP:20260421T161726Z
SUMMARY:DIE WEIHNACHTSBÄCKEREI Theater - Theater für junge Gäste - DER S
 PIELKORB
LOCATION:kulturiges im Hamborner Ratskeller Duisburger Str. 213  Duisburg  
 47166
ORGANIZER;CN=Alexander Fennen:MAILTO:alexander.fennen@gmail.com
DTSTART;TZID=Etc/GMT-1:20231213T150000
DTEND;TZID=Etc/GMT-1:20231213T160000
X-ALT-DESC;FMTTYPE=TEXT/HTML:Dezember: DIE WEIHNACHTSBÄCKEREI Theater Tom 
 Teuer\, Duisburg Es spielt: Tom Dahl Der Plätzennotruf 2412 hilft bei ang
 ebrannten Plätzchen und gestressten Eltern. Kein Wunder\, dass der Plätz
 chennotrufbäcker Alfons Zuckerwatte Weihnachten alle Hände voll zu tun h
 at: ständig klingelt das Telefon. Heute herrscht besonders hoher Hochbetr
 ieb. Die Kinder sind zu Besuch im Plätzchennotruf und das Räuchermännch
 en und&amp;hellip\;
CATEGORIES:General
URL;VALUE=URI:http://fair-ruhrort.de/mc-events/die-weihnachtsbaeckerei-thea
 ter-theater-fuer-junge-gaeste-der-spielkorb
METHOD:PUBLISH
END:VEVENT
END:VCALENDAR