BEGIN:VCALENDAR
VERSION:2.0
PRODID:spatie/icalendar-generator
DESCRIPTION:Veranstaltungen von 
X-WR-CALDESC:Veranstaltungen von 
REFRESH-INTERVAL;VALUE=DURATION:PT1440M
X-PUBLISHED-TTL:PT1440M
BEGIN:VTIMEZONE
TZID:Etc/GMT-1
BEGIN:STANDARD
DTSTART:20230317T190000Z
TZOFFSETFROM:+0100
TZOFFSETTO:+0100
END:STANDARD
END:VTIMEZONE
BEGIN:VTIMEZONE
TZID:UTC
BEGIN:STANDARD
DTSTART:20250725T161916Z
TZOFFSETFROM:+0000
TZOFFSETTO:+0000
END:STANDARD
END:VTIMEZONE
BEGIN:VEVENT
UID:19-17
DTSTAMP:20260421T161916Z
SUMMARY:Nachhaltiger Konsum - ELRO
LOCATION:UMWELT-Lokal Weinhagenstraße 23  Duisburg  47119
ORGANIZER;CN=Alexander Fennen:MAILTO:alexander.fennen@gmail.com
DTSTART;TZID=Etc/GMT-1:20231212T190000
DTEND;TZID=Etc/GMT-1:20231212T200000
X-ALT-DESC;FMTTYPE=TEXT/HTML:Thema: nachhaltiger Konsum Wir erhalten Inform
 ationen zu nachhaltigem Konsum. Danach gibt es viel Zeit für gemeinsamen 
 Austausch. Es geht zum Beispiel darum\, bewusster einzukaufen oder Produk
 te länger zu nutzen und sie zu reparieren. Alle Menschen aus Ruhrort sind
  eingeladen! Im Anschluss: Wir packen´s an! Bringt gerne Stoffreste ode
 r aussortierte Bettwäsche mit. Daraus nähen wir gemeinsam Stofftaschen u
 nd nachhaltige&amp;hellip\;
CATEGORIES:General
URL;VALUE=URI:http://fair-ruhrort.de/mc-events/nachhaltiger-konsum-elro
METHOD:PUBLISH
END:VEVENT
END:VCALENDAR