BEGIN:VCALENDAR
VERSION:2.0
PRODID:spatie/icalendar-generator
DESCRIPTION:Veranstaltungen von 
X-WR-CALDESC:Veranstaltungen von 
REFRESH-INTERVAL;VALUE=DURATION:PT1440M
X-PUBLISHED-TTL:PT1440M
BEGIN:VTIMEZONE
TZID:Etc/GMT-1
BEGIN:STANDARD
DTSTART:20230309T090000Z
TZOFFSETFROM:+0100
TZOFFSETTO:+0100
END:STANDARD
END:VTIMEZONE
BEGIN:VTIMEZONE
TZID:UTC
BEGIN:STANDARD
DTSTART:20250725T174055Z
TZOFFSETFROM:+0000
TZOFFSETTO:+0000
END:STANDARD
END:VTIMEZONE
BEGIN:VEVENT
UID:15-14
DTSTAMP:20260421T174055Z
SUMMARY:Woche der offenen Türen - Aletta Haniel Gesamtschule
LOCATION:Aletta-Haniel-Gesamtschule Aletta Haniel Gesamtschule  Duisburg  4
 7119
ORGANIZER;CN=Alexander Fennen:MAILTO:alexander.fennen@gmail.com
DTSTART;TZID=Etc/GMT-1:20231204T090000
DTEND;TZID=Etc/GMT-1:20231208T100000
X-ALT-DESC;FMTTYPE=TEXT/HTML:
CATEGORIES:General
URL;VALUE=URI:http://fair-ruhrort.de/mc-events/woche-der-offenen-tueren-ale
 tta-haniel-gesamtschule
METHOD:PUBLISH
END:VEVENT
END:VCALENDAR