BEGIN:VCALENDAR
VERSION:2.0
PRODID:spatie/icalendar-generator
DESCRIPTION:Veranstaltungen von 
X-WR-CALDESC:Veranstaltungen von 
REFRESH-INTERVAL;VALUE=DURATION:PT1440M
X-PUBLISHED-TTL:PT1440M
BEGIN:VTIMEZONE
TZID:Etc/GMT-1
BEGIN:STANDARD
DTSTART:20230306T110000Z
TZOFFSETFROM:+0100
TZOFFSETTO:+0100
END:STANDARD
END:VTIMEZONE
BEGIN:VTIMEZONE
TZID:UTC
BEGIN:STANDARD
DTSTART:20250727T115344Z
TZOFFSETFROM:+0000
TZOFFSETTO:+0000
END:STANDARD
END:VTIMEZONE
BEGIN:VEVENT
UID:14-13
DTSTAMP:20260423T115344Z
SUMMARY:Christbaumschmücken auf dem Neumarkt
LOCATION:Neumarkt   Duisburg NRW 47119
ORGANIZER;CN=Alexander Fennen:MAILTO:alexander.fennen@gmail.com
DTSTART;TZID=Etc/GMT-1:20231201T110000
DTEND;TZID=Etc/GMT-1:20231201T120000
X-ALT-DESC;FMTTYPE=TEXT/HTML:
CATEGORIES:General
URL;VALUE=URI:http://fair-ruhrort.de/mc-events/christbaumschmuecken-auf-dem
 -neumarkt
METHOD:PUBLISH
END:VEVENT
END:VCALENDAR