BEGIN:VCALENDAR
VERSION:2.0
PRODID:spatie/icalendar-generator
DESCRIPTION:Veranstaltungen von 
X-WR-CALDESC:Veranstaltungen von 
REFRESH-INTERVAL;VALUE=DURATION:PT1440M
X-PUBLISHED-TTL:PT1440M
BEGIN:VTIMEZONE
TZID:Etc/GMT-1
BEGIN:STANDARD
DTSTART:20230816T160000Z
TZOFFSETFROM:+0100
TZOFFSETTO:+0100
END:STANDARD
END:VTIMEZONE
BEGIN:VTIMEZONE
TZID:UTC
BEGIN:STANDARD
DTSTART:20250725T110656Z
TZOFFSETFROM:+0000
TZOFFSETTO:+0000
END:STANDARD
END:VTIMEZONE
BEGIN:VEVENT
UID:36-33
DTSTAMP:20260421T110656Z
SUMMARY:KÜHLSCHRANKGESCHICHTEN Theater - Spielkorb
LOCATION:Das Parkhaus Bürgermeister-Pütz-Str. 123  Duisburg  47137
ORGANIZER;CN=Alexander Fennen:MAILTO:alexander.fennen@gmail.com
DTSTART;TZID=Etc/GMT-1:20240512T160000
DTEND;TZID=Etc/GMT-1:20240512T170000
X-ALT-DESC;FMTTYPE=TEXT/HTML:KÜHLSCHRANKGESCHICHTEN Eine eiskalte Geschich
 te für starke Nerven Es spielt: Vernonika Maruhn Theater Zebula\, Essen N
 achts\, wenn alle schlafen\, geht es im Kühlschrank heiß her. Da erzähl
 t der Graf von Konserve eine Geschichte\, da singen und lachen die Tomaten
 \, der Käse und die Erdbeeren\, die sich als Ballett vorstellen. Aber auc
 h Probleme wie die Haltbarkeit von&amp;hellip\;
CATEGORIES:General
URL;VALUE=URI:http://fair-ruhrort.de/mc-events/kuehlschrankgeschichten-thea
 ter-spielkorb
METHOD:PUBLISH
END:VEVENT
END:VCALENDAR