BEGIN:VCALENDAR
VERSION:2.0
PRODID:spatie/icalendar-generator
DESCRIPTION:Veranstaltungen von 
X-WR-CALDESC:Veranstaltungen von 
REFRESH-INTERVAL;VALUE=DURATION:PT1440M
X-PUBLISHED-TTL:PT1440M
BEGIN:VTIMEZONE
TZID:Etc/GMT-1
BEGIN:STANDARD
DTSTART:20230527T150000Z
TZOFFSETFROM:+0100
TZOFFSETTO:+0100
END:STANDARD
END:VTIMEZONE
BEGIN:VTIMEZONE
TZID:UTC
BEGIN:STANDARD
DTSTART:20250725T110839Z
TZOFFSETFROM:+0000
TZOFFSETTO:+0000
END:STANDARD
END:VTIMEZONE
BEGIN:VEVENT
UID:27-24
DTSTAMP:20260421T110839Z
SUMMARY:STERNENHIMMEL – EINE WELTRAUMGESCHICHTE Theater - Spielkorb
LOCATION:kulturiges im Hamborner Ratskeller Duisburger Str. 213  Duisburg  
 47166
ORGANIZER;CN=Alexander Fennen:MAILTO:alexander.fennen@gmail.com
DTSTART;TZID=Etc/GMT-1:20240221T150000
DTEND;TZID=Etc/GMT-1:20240221T160000
X-ALT-DESC;FMTTYPE=TEXT/HTML:STERNENHIMMEL – EINE WELTRAUMGESCHICHTE Ein 
 Singspiel mit Tanz Es spielen: Leonhard Friedrich Lechner\, Thomas Herr Th
 eater Rootslöffel\, Nürnberg Herrn Schneider gefällt es hier: Er sitzt 
 am liebsten in seinem Stuhl und schaut in die Wolken. Oder er fährt mit s
 einem Fahrrade mit der blauen Klingel. Oder er isst ein Erdbeereis. Herr M
 üller will weg. Er&amp;hellip\;
CATEGORIES:General
URL;VALUE=URI:http://fair-ruhrort.de/mc-events/sternenhimmel-eine-weltraumg
 eschichte-theater-spielkorb
METHOD:PUBLISH
END:VEVENT
END:VCALENDAR