BEGIN:VCALENDAR
VERSION:2.0
PRODID:spatie/icalendar-generator
DESCRIPTION:Veranstaltungen von 
X-WR-CALDESC:Veranstaltungen von 
REFRESH-INTERVAL;VALUE=DURATION:PT1440M
X-PUBLISHED-TTL:PT1440M
BEGIN:VTIMEZONE
TZID:Etc/GMT-1
BEGIN:STANDARD
DTSTART:20230422T150000Z
TZOFFSETFROM:+0100
TZOFFSETTO:+0100
END:STANDARD
END:VTIMEZONE
BEGIN:VTIMEZONE
TZID:UTC
BEGIN:STANDARD
DTSTART:20250725T122821Z
TZOFFSETFROM:+0000
TZOFFSETTO:+0000
END:STANDARD
END:VTIMEZONE
BEGIN:VEVENT
UID:23-21
DTSTAMP:20260421T122821Z
SUMMARY:DER TEUFEL MIT DEN DREI GOLDENEN HAAREN Theater - Spielkorb
LOCATION:kulturiges im Hamborner Ratskeller Duisburger Str. 213  Duisburg  
 47166
ORGANIZER;CN=Alexander Fennen:MAILTO:alexander.fennen@gmail.com
DTSTART;TZID=Etc/GMT-1:20240117T150000
DTEND;TZID=Etc/GMT-1:20240117T160000
X-ALT-DESC;FMTTYPE=TEXT/HTML:DER TEUFEL MIT DEN DREI GOLDENEN HAAREN Eine t
 urbulente Geschichte über Unmögliches\, das wahr wird Es spielen: Claudi
 a Engels\, Matthias Ludwig flunkerproduktionen\, Dahme/Mark Während sich 
 der Teufel in der Hölle unten mit seiner Großmutter in den Haaren liegt\
 , spaziert auf der Erde oben das Glückskind Fritz durch sein abenteuerlic
 hes Leben. Der König will ihn loswerden&amp;hellip\;
CATEGORIES:General
URL;VALUE=URI:http://fair-ruhrort.de/mc-events/der-teufel-mit-den-drei-gold
 enen-haaren-theater-spielkorb
METHOD:PUBLISH
END:VEVENT
END:VCALENDAR