BEGIN:VCALENDAR
VERSION:2.0
PRODID:spatie/icalendar-generator
DESCRIPTION:Veranstaltungen von 
X-WR-CALDESC:Veranstaltungen von 
REFRESH-INTERVAL;VALUE=DURATION:PT1440M
X-PUBLISHED-TTL:PT1440M
BEGIN:VTIMEZONE
TZID:Etc/GMT-1
BEGIN:STANDARD
DTSTART:20230322T160000Z
TZOFFSETFROM:+0100
TZOFFSETTO:+0100
END:STANDARD
END:VTIMEZONE
BEGIN:VTIMEZONE
TZID:UTC
BEGIN:STANDARD
DTSTART:20250725T135544Z
TZOFFSETFROM:+0000
TZOFFSETTO:+0000
END:STANDARD
END:VTIMEZONE
BEGIN:VEVENT
UID:22-20
DTSTAMP:20260421T135544Z
SUMMARY:DIE WEIHNACHTSBÄCKEREI Theater - DER SPIELKORB – Theater für ju
 nge Gäste
LOCATION:Das Parkhaus Bürgermeister-Pütz-Str. 123  Duisburg  47137
ORGANIZER;CN=Alexander Fennen:MAILTO:alexander.fennen@gmail.com
DTSTART;TZID=Etc/GMT-1:20231217T160000
DTEND;TZID=Etc/GMT-1:20231217T170000
X-ALT-DESC;FMTTYPE=TEXT/HTML:Dezember: DIE WEIHNACHTSBÄCKEREI Theater Tom 
 Teuer\, Duisburg Es spielt: Tom Dahl Der Plätzennotruf 2412 hilft bei ang
 ebrannten Plätzchen und gestressten Eltern. Kein Wunder\, dass der Plätz
 chennotrufbäcker Alfons Zuckerwatte Weihnachten alle Hände voll zu tun h
 at: ständig klingelt das Telefon. Heute herrscht besonders hoher Hochbetr
 ieb. Die Kinder sind zu Besuch im Plätzchennotruf und das Räuchermännch
 en und&amp;hellip\;
CATEGORIES:General
URL;VALUE=URI:http://fair-ruhrort.de/mc-events/die-weihnachtsbaeckerei-thea
 ter-der-spielkorb-theater-fuer-junge-gaeste-3
METHOD:PUBLISH
END:VEVENT
END:VCALENDAR